BEGIN:VCALENDAR
VERSION:2.0
PRODID:-//ne.bleeding.org//NONSGML kigkonsult.se iCalcreator 2.30.10//
CALSCALE:GREGORIAN
METHOD:PUBLISH
UID:dca3445a-19d9-4159-a20c-cae64721dfe2
X-WR-CALDESC:Join us for the social event of the fall with Nebraska NHF at 
 the Pumpkin Patch! \n We are headed just South of Lincoln to Roca Berry Fa
 rm!!\n\nVisit with industry sponsors\, fellow hemophilia families\, enjoy 
 snacks and enjoy your day at the pumpkin patch.\n\nWe will be providing tr
 eats and tickets to Roca Berry Farm for members of our community. In order
  for NE NHF to provide your tickets you must meet one of the following cri
 teria:\nDiagnosed with hemophilia\, Von Willebrand Disease or another blee
 ding disorder\nDiagnosed as a carrier of hemophilia or another bleeding di
 sorder\nCaregiver of a person with a bleeding disorder\n\nWe will provide 
 tickets for the immediate family of our affected members. While we love yo
 ur extended family\, its imperative for us to be conscious of our budget t
 o offer more programs and events throughout the year. They are welcome to 
 join you for the day at the berry farm and tickets can be purchased for th
 em online or at the gate. Thank you for your understanding.
X-WR-RELCALID:7d87cfad1b268009cb0a25c68c401c56
X-WR-TIMEZONE:America/Chicago
BEGIN:VTIMEZONE
TZID:America/Chicago
BEGIN:STANDARD
TZNAME:CST
DTSTART:20221106T020000
TZOFFSETFROM:-0500
TZOFFSETTO:-0600
RDATE:20231105T020000
RDATE:20241103T020000
END:STANDARD
BEGIN:DAYLIGHT
TZNAME:CDT
DTSTART:20230312T020000
TZOFFSETFROM:-0600
TZOFFSETTO:-0500
RDATE:20240310T020000
RDATE:20250309T020000
END:DAYLIGHT
END:VTIMEZONE
BEGIN:VEVENT
UID:c01206ea-71be-4638-aec7-892dfff9bdee
DTSTAMP:20260421T102359Z
DESCRIPTION:Join us for the social event of the fall with Nebraska NHF at t
 he Pumpkin Patch! \n We are headed just South of Lincoln to Roca Berry Far
 m!!\n\nVisit with industry sponsors\, fellow hemophilia families\, enjoy s
 nacks and enjoy your day at the pumpkin patch.\n\nWe will be providing tre
 ats and tickets to Roca Berry Farm for members of our community. In order 
 for NE NHF to provide your tickets you must meet one of the following crit
 eria:\nDiagnosed with hemophilia\, Von Willebrand Disease or another bleed
 ing disorder\nDiagnosed as a carrier of hemophilia or another bleeding dis
 order\nCaregiver of a person with a bleeding disorder\n\nWe will provide t
 ickets for the immediate family of our affected members. While we love you
 r extended family\, its imperative for us to be conscious of our budget to
  offer more programs and events throughout the year. They are welcome to j
 oin you for the day at the berry farm and tickets can be purchased for the
 m online or at the gate. Thank you for your understanding.
DTSTART;TZID=America/Chicago:20231021T090000
DTEND;TZID=America/Chicago:20231021T110000
LOCATION:Roca Berry Farm
SUMMARY:Harvest Festival
END:VEVENT
END:VCALENDAR
